BEGIN:VCALENDAR
VERSION:2.0
PRODID:-//Healthy Living | Hartford Healthcare - ECPv6.15.12.2//NONSGML v1.0//EN
CALSCALE:GREGORIAN
METHOD:PUBLISH
X-WR-CALNAME:Healthy Living | Hartford Healthcare
X-ORIGINAL-URL:https://healthyliving.echn.org
X-WR-CALDESC:Events for Healthy Living | Hartford Healthcare
REFRESH-INTERVAL;VALUE=DURATION:PT1H
X-Robots-Tag:noindex
X-PUBLISHED-TTL:PT1H
BEGIN:VTIMEZONE
TZID:America/New_York
BEGIN:DAYLIGHT
TZOFFSETFROM:-0500
TZOFFSETTO:-0400
TZNAME:EDT
DTSTART:20240310T070000
END:DAYLIGHT
BEGIN:STANDARD
TZOFFSETFROM:-0400
TZOFFSETTO:-0500
TZNAME:EST
DTSTART:20241103T060000
END:STANDARD
BEGIN:DAYLIGHT
TZOFFSETFROM:-0500
TZOFFSETTO:-0400
TZNAME:EDT
DTSTART:20250309T070000
END:DAYLIGHT
BEGIN:STANDARD
TZOFFSETFROM:-0400
TZOFFSETTO:-0500
TZNAME:EST
DTSTART:20251102T060000
END:STANDARD
BEGIN:DAYLIGHT
TZOFFSETFROM:-0500
TZOFFSETTO:-0400
TZNAME:EDT
DTSTART:20260308T070000
END:DAYLIGHT
BEGIN:STANDARD
TZOFFSETFROM:-0400
TZOFFSETTO:-0500
TZNAME:EST
DTSTART:20261101T060000
END:STANDARD
END:VTIMEZONE
BEGIN:VEVENT
DTSTART;TZID=America/New_York:20250714T181000
DTEND;TZID=America/New_York:20250714T184000
DTSTAMP:20260420T084055
CREATED:20250508T155832Z
LAST-MODIFIED:20250712T153557Z
UID:10003778-1752516600-1752518400@healthyliving.echn.org
SUMMARY:Family Birthing Center In-Person Tour (6:10 pm) - Full
DESCRIPTION:In-person Family Birthing Center Tours are available by registration only. Tours are limited to expectant parents (Pregnant parent plus one additional partner only). Absolutely no children or walk ins allowed. Each 30 minute tour is limited to just 6 couples (1 ticket = 1 couple). A confirmation with additional information will be sent via email once we receive your registration. \nPlan to arrive 10 – 15minutes prior to your tour time to check in with security at the Ambulatory Services Entrance. \nPrior to attending the in-person tour\, both partners must view our Virtual Tour PowerPoint that will be sent via email after you register: \nAnd our unofficial video tour: \n \nPlease call Perinatal Education 860-647-4790 or email bcrayton@echn.org if you have any questions.
URL:https://healthyliving.echn.org/events/family-birthing-center-in-person-tour-610-pm-4/
LOCATION:Manchester Memorial Hospital\, 71 Haynes Street\, Manchester\, CT\, 06040\, United States
CATEGORIES:Childbirth & Postpartum,Family Birthing Center Tour
ORGANIZER;CN="Lauren Sembersky":MAILTO:lsembersky@echn.org
END:VEVENT
BEGIN:VEVENT
DTSTART;TZID=America/New_York:20250714T175000
DTEND;TZID=America/New_York:20250714T182000
DTSTAMP:20260420T084055
CREATED:20250716T123458Z
LAST-MODIFIED:20250716T123458Z
UID:10003819-1752515400-1752517200@healthyliving.echn.org
SUMMARY:Family Birthing Center In-Person Tour (5:50 pm)
DESCRIPTION:In-person Family Birthing Center Tours are available by registration only. Tours are limited to expectant parents (Pregnant parent plus one additional partner only). Absolutely no children or walk ins allowed. Each 30 minute tour is limited to just 6 couples (1 ticket = 1 couple). A confirmation with additional information will be sent via email once we receive your registration. \nPlan to arrive 10 – 15minutes prior to your tour time to check in with security at the Ambulatory Services Entrance. \nPrior to attending the in-person tour\, both partners must view our Virtual Tour PowerPoint that will be sent via email after you register: \nAnd our unofficial video tour: \n \nPlease call Perinatal Education 860-647-4790 or email lsembersky@echn.org for more information or if you have any questions.
URL:https://healthyliving.echn.org/events/family-birthing-center-in-person-tour-550-pm/
LOCATION:Manchester Memorial Hospital\, 71 Haynes Street\, Manchester\, CT\, 06040\, United States
CATEGORIES:Childbirth & Postpartum,Family Birthing Center Tour
ORGANIZER;CN="Lauren Sembersky":MAILTO:lsembersky@echn.org
END:VEVENT
BEGIN:VEVENT
DTSTART;TZID=America/New_York:20250714T175000
DTEND;TZID=America/New_York:20250714T182000
DTSTAMP:20260420T084055
CREATED:20250508T160115Z
LAST-MODIFIED:20250712T153649Z
UID:10003779-1752515400-1752517200@healthyliving.echn.org
SUMMARY:Family Birthing Center In-Person Tour (5:50 pm) - Full
DESCRIPTION:In-person Family Birthing Center Tours are available by registration only. Tours are limited to expectant parents (Pregnant parent plus one additional partner only). Absolutely no children or walk ins allowed. Each 30 minute tour is limited to just 6 couples (1 ticket = 1 couple). A confirmation with additional information will be sent via email once we receive your registration. \nPlan to arrive 10 – 15minutes prior to your tour time to check in with security at the Ambulatory Services Entrance. \nPrior to attending the in-person tour\, both partners must view our Virtual Tour PowerPoint that will be sent via email after you register: \nAnd our unofficial video tour: \n \nPlease call Perinatal Education 860-647-4790 or email lsembersky@echn.org if you have any questions.
URL:https://healthyliving.echn.org/events/family-birthing-center-in-person-tour-610-pm-5/
LOCATION:Manchester Memorial Hospital\, 71 Haynes Street\, Manchester\, CT\, 06040\, United States
CATEGORIES:Childbirth & Postpartum,Family Birthing Center Tour
ORGANIZER;CN="Lauren Sembersky":MAILTO:lsembersky@echn.org
END:VEVENT
BEGIN:VEVENT
DTSTART;TZID=America/New_York:20250714T173000
DTEND;TZID=America/New_York:20250714T180000
DTSTAMP:20260420T084055
CREATED:20250508T160255Z
LAST-MODIFIED:20250627T194927Z
UID:10003780-1752514200-1752516000@healthyliving.echn.org
SUMMARY:Family Birthing Center In-Person Tour (5:30 pm) - Full
DESCRIPTION:In-person Family Birthing Center Tours are available by registration only. Tours are limited to expectant parents (Pregnant parent plus one additional partner only). Absolutely no children or walk ins allowed. Each 30 minute tour is limited to just 6 couples (1 ticket = 1 couple). A confirmation with additional information will be sent via email once we receive your registration. \nPlan to arrive 10 – 15minutes prior to your tour time to check in with security at the Ambulatory Services Entrance. \nPrior to attending the in-person tour\, both partners must view our Virtual Tour PowerPoint that will be sent via email after you register: \nAnd our unofficial video tour: \n \nPlease call Perinatal Education 860-647-4790 or email lsembersky@echn.org for more information of if you have any questions.
URL:https://healthyliving.echn.org/events/family-birthing-center-in-person-tour-530-pm-4/
LOCATION:Manchester Memorial Hospital\, 71 Haynes Street\, Manchester\, CT\, 06040\, United States
CATEGORIES:Childbirth & Postpartum,Family Birthing Center Tour
ORGANIZER;CN="Lauren Sembersky":MAILTO:lsembersky@echn.org
END:VEVENT
BEGIN:VEVENT
DTSTART;TZID=America/New_York:20250714T171000
DTEND;TZID=America/New_York:20250714T174000
DTSTAMP:20260420T084055
CREATED:20250508T160406Z
LAST-MODIFIED:20250712T162515Z
UID:10003777-1752513000-1752514800@healthyliving.echn.org
SUMMARY:Family Birthing Center In-Person Tour (5:10 pm)
DESCRIPTION:In-person Family Birthing Center Tours are available by registration only. Tours are limited to expectant parents (Pregnant parent plus one additional partner only). Absolutely no children or walk ins allowed. Each 30 minute tour is limited to just 6 couples (1 ticket = 1 couple). A confirmation with additional information will be sent via email once we receive your registration. \nPlan to arrive 10 – 15minutes prior to your tour time to check in with security at the Ambulatory Services Entrance. \nPrior to attending the in-person tour\, both partners must view our Virtual Tour PowerPoint that will be sent via email after you register: \nAnd our unofficial video tour: \n \nPlease call Perinatal Education 860-647-4790 or email lsembersky@echn.org for more information or if you have any questions.
URL:https://healthyliving.echn.org/events/family-birthing-center-in-person-tour-510-pm/
LOCATION:Manchester Memorial Hospital\, 71 Haynes Street\, Manchester\, CT\, 06040\, United States
CATEGORIES:Childbirth & Postpartum,Family Birthing Center Tour
ORGANIZER;CN="Lauren Sembersky":MAILTO:lsembersky@echn.org
END:VEVENT
END:VCALENDAR