BEGIN:VCALENDAR
VERSION:2.0
PRODID:-//Healthy Living | Hartford Healthcare - ECPv6.15.12.2//NONSGML v1.0//EN
CALSCALE:GREGORIAN
METHOD:PUBLISH
X-WR-CALNAME:Healthy Living | Hartford Healthcare
X-ORIGINAL-URL:https://healthyliving.echn.org
X-WR-CALDESC:Events for Healthy Living | Hartford Healthcare
REFRESH-INTERVAL;VALUE=DURATION:PT1H
X-Robots-Tag:noindex
X-PUBLISHED-TTL:PT1H
BEGIN:VTIMEZONE
TZID:America/New_York
BEGIN:DAYLIGHT
TZOFFSETFROM:-0500
TZOFFSETTO:-0400
TZNAME:EDT
DTSTART:20240310T070000
END:DAYLIGHT
BEGIN:STANDARD
TZOFFSETFROM:-0400
TZOFFSETTO:-0500
TZNAME:EST
DTSTART:20241103T060000
END:STANDARD
BEGIN:DAYLIGHT
TZOFFSETFROM:-0500
TZOFFSETTO:-0400
TZNAME:EDT
DTSTART:20250309T070000
END:DAYLIGHT
BEGIN:STANDARD
TZOFFSETFROM:-0400
TZOFFSETTO:-0500
TZNAME:EST
DTSTART:20251102T060000
END:STANDARD
BEGIN:DAYLIGHT
TZOFFSETFROM:-0500
TZOFFSETTO:-0400
TZNAME:EDT
DTSTART:20260308T070000
END:DAYLIGHT
BEGIN:STANDARD
TZOFFSETFROM:-0400
TZOFFSETTO:-0500
TZNAME:EST
DTSTART:20261101T060000
END:STANDARD
END:VTIMEZONE
BEGIN:VEVENT
DTSTART;TZID=America/New_York:20250909T175000
DTEND;TZID=America/New_York:20250909T182000
DTSTAMP:20260420T083719
CREATED:20250716T124114Z
LAST-MODIFIED:20250824T185739Z
UID:10003817-1757440200-1757442000@healthyliving.echn.org
SUMMARY:Family Birthing Center In-Person Tour (5:50 pm) - Full
DESCRIPTION:In-person Family Birthing Center Tours are available by registration only. Tours are limited to expectant parents (Pregnant parent plus one additional partner only). Absolutely no children or walk ins allowed. Each 30 minute tour is limited to just 6 couples (1 ticket = 1 couple). A confirmation with additional information will be sent via email once we receive your registration. \nPlan to arrive 10 – 15minutes prior to your tour time to check in with security at the Ambulatory Services Entrance. \nPrior to attending the in-person tour\, both partners must view our Virtual Tour PowerPoint that will be sent via email after you register: \nAnd our unofficial video tour: \n \nPlease call Perinatal Education 860-647-4790 or email lsembersky@echn.org for more information or if you have any questions.
URL:https://healthyliving.echn.org/events/family-birthing-center-in-person-tour-550-pm-2/
LOCATION:Manchester Memorial Hospital\, 71 Haynes Street\, Manchester\, CT\, 06040\, United States
CATEGORIES:Childbirth & Postpartum,Family Birthing Center Tour
ORGANIZER;CN="Lauren Sembersky":MAILTO:lsembersky@echn.org
END:VEVENT
BEGIN:VEVENT
DTSTART;TZID=America/New_York:20250909T173000
DTEND;TZID=America/New_York:20250909T180000
DTSTAMP:20260420T083719
CREATED:20250716T123341Z
LAST-MODIFIED:20250829T191519Z
UID:10003818-1757439000-1757440800@healthyliving.echn.org
SUMMARY:Family Birthing Center In-Person Tour (Full)
DESCRIPTION:In-person Family Birthing Center Tours are available by registration only. Tours are limited to expectant parents (Pregnant parent plus one additional partner only). Absolutely no children or walk ins allowed. Each 30 minute tour is limited to just 6 couples (1 ticket = 1 couple). A confirmation with additional information will be sent via email once we receive your registration. \nPlan to arrive 10 – 15minutes prior to your tour time to check in with security at the Ambulatory Services Entrance. \nPrior to attending the in-person tour\, both partners must view our Virtual Tour PowerPoint that will be sent via email after you register: \nAnd our unofficial video tour: \n \nPlease call Perinatal Education 860-647-4790 or email lsembersky@echn.org for more information or if you have any questions.
URL:https://healthyliving.echn.org/events/family-birthing-center-in-person-tour-530-pm/
LOCATION:Manchester Memorial Hospital\, 71 Haynes Street\, Manchester\, CT\, 06040\, United States
CATEGORIES:Childbirth & Postpartum,Family Birthing Center Tour
ORGANIZER;CN="Lauren Sembersky":MAILTO:lsembersky@echn.org
END:VEVENT
BEGIN:VEVENT
DTSTART;TZID=America/New_York:20250909T171000
DTEND;TZID=America/New_York:20250909T174000
DTSTAMP:20260420T083719
CREATED:20250716T123024Z
LAST-MODIFIED:20250716T123024Z
UID:10003815-1757437800-1757439600@healthyliving.echn.org
SUMMARY:Family Birthing Center In-Person Tour (5:10 pm)
DESCRIPTION:In-person Family Birthing Center Tours are available by registration only. Tours are limited to expectant parents (Pregnant parent plus one additional partner only). Absolutely no children or walk ins allowed. Each 30 minute tour is limited to just 6 couples (1 ticket = 1 couple). A confirmation with additional information will be sent via email once we receive your registration. \nPlan to arrive 10 – 15minutes prior to your tour time to check in with security at the Ambulatory Services Entrance. \nPrior to attending the in-person tour\, both partners must view our Virtual Tour PowerPoint that will be sent via email after you register: \nAnd our unofficial video tour: \n \nPlease call Perinatal Education 860-647-4790 or email lsembersky@echn.org for more information or if you have any questions.
URL:https://healthyliving.echn.org/events/family-birthing-center-in-person-tour-510-pm-2/
LOCATION:Manchester Memorial Hospital\, 71 Haynes Street\, Manchester\, CT\, 06040\, United States
CATEGORIES:Childbirth & Postpartum,Family Birthing Center Tour
ORGANIZER;CN="Lauren Sembersky":MAILTO:lsembersky@echn.org
END:VEVENT
BEGIN:VEVENT
DTSTART;TZID=America/New_York:20250809T102000
DTEND;TZID=America/New_York:20250809T105000
DTSTAMP:20260420T083719
CREATED:20250803T004515Z
LAST-MODIFIED:20250803T004515Z
UID:10003844-1754734800-1754736600@healthyliving.echn.org
SUMMARY:Family Birthing Center In-Person Tour (10:20 am)
DESCRIPTION:In-person Family Birthing Center Tours are available by registration only. Tours are limited to expectant parents (Pregnant parent plus one additional partner only). Absolutely no children or walk ins allowed. Each 30 minute tour is limited to just 6 couples (1 ticket = 1 couple). A confirmation with additional information will be sent via email once we receive your registration. \nPlan to arrive 15 – 20 minutes prior to your tour time to check in with security at the Main Entrance. \nPrior to attending the in-person tour\, both partners must view our Virtual Tour PowerPoint that will be sent via email after you register: \nAnd our unofficial video tour: \n \nPlease call Perinatal Education 860-647-4790 or email lsembersky@echn.org for more information or if you have any questions.
URL:https://healthyliving.echn.org/events/family-birthing-center-in-person-tour-1020-am/
LOCATION:Manchester Memorial Hospital\, 71 Haynes Street\, Manchester\, CT\, 06040\, United States
CATEGORIES:Childbirth & Postpartum,Family Birthing Center Tour
ORGANIZER;CN="Lauren Sembersky":MAILTO:lsembersky@echn.org
END:VEVENT
BEGIN:VEVENT
DTSTART;TZID=America/New_York:20250809T100000
DTEND;TZID=America/New_York:20250809T103000
DTSTAMP:20260420T083719
CREATED:20250624T153634Z
LAST-MODIFIED:20250726T124443Z
UID:10003807-1754733600-1754735400@healthyliving.echn.org
SUMMARY:Family Birthing Center In-Person Tour (10:00 am)
DESCRIPTION:In-person Family Birthing Center Tours are available by registration only. Tours are limited to expectant parents (Pregnant parent plus one additional partner only). Absolutely no children or walk ins allowed. Each 30 minute tour is limited to just 6 couples (1 ticket = 1 couple). A confirmation with additional information will be sent via email. \nPlan to arrive 15 – 20 minutes prior to your tour time to check in with security at the Main Entrance. \nPrior to attending the in-person tour\, both partners must view our Virtual Tour PowerPoint that will be sent via email. \nAnd our unofficial video tour: \n \nPlease call Perinatal Education 860-647-4790 or email lsembersky@echn.org for more information or if you have any questions.
URL:https://healthyliving.echn.org/events/family-birthing-center-in-person-tour-1000-am/
LOCATION:Manchester Memorial Hospital\, 71 Haynes Street\, Manchester\, CT\, 06040\, United States
CATEGORIES:Childbirth & Postpartum,Family Birthing Center Tour
ORGANIZER;CN="Lauren Sembersky":MAILTO:lsembersky@echn.org
END:VEVENT
BEGIN:VEVENT
DTSTART;TZID=America/New_York:20250809T094000
DTEND;TZID=America/New_York:20250809T101000
DTSTAMP:20260420T083719
CREATED:20250624T153833Z
LAST-MODIFIED:20250726T130450Z
UID:10003808-1754732400-1754734200@healthyliving.echn.org
SUMMARY:Family Birthing Center In-Person Tour (9:40 am) - FULL
DESCRIPTION:In-person Family Birthing Center Tours are available by registration only. Tours are limited to expectant parents (Pregnant parent plus one additional partner only). Absolutely no children or walk ins allowed. Each 30 minute tour is limited to just 6 couples (1 ticket = 1 couple). A confirmation with additional information will be sent via email once we receive your registration. \nPlan to arrive 15 – 20 minutes prior to your tour time to check in with security at the Main Entrance. \nPrior to attending the in-person tour\, both partners must view our Virtual Tour PowerPoint that will be sent via email after you register: \nAnd our unofficial video tour: \n \nPlease call Perinatal Education 860-647-4790 or email lsembersky@echn.org for more information of if you have any questions.
URL:https://healthyliving.echn.org/events/family-birthing-center-in-person-tour-940-am/
LOCATION:Manchester Memorial Hospital\, 71 Haynes Street\, Manchester\, CT\, 06040\, United States
CATEGORIES:Childbirth & Postpartum,Family Birthing Center Tour
ORGANIZER;CN="Lauren Sembersky":MAILTO:lsembersky@echn.org
END:VEVENT
BEGIN:VEVENT
DTSTART;TZID=America/New_York:20250809T092000
DTEND;TZID=America/New_York:20250809T095000
DTSTAMP:20260420T083719
CREATED:20250624T154024Z
LAST-MODIFIED:20250624T163055Z
UID:10003810-1754731200-1754733000@healthyliving.echn.org
SUMMARY:Family Birthing Center In-Person Tour (9:20 am)
DESCRIPTION:In-person Family Birthing Center Tours are available by registration only. Tours are limited to expectant parents (Pregnant parent plus one additional partner only). Absolutely no children or walk ins allowed. Each 30 minute tour is limited to just 6 couples (1 ticket = 1 couple). A confirmation with additional information will be sent via email once we receive your registration. \nPlan to arrive 15 – 20 minutes prior to your tour time to check in with security at the Main Entrance. \nPrior to attending the in-person tour\, both partners must view our Virtual Tour PowerPoint that will be sent via email after you register: \nAnd our unofficial video tour: \n \nPlease call Perinatal Education 860-647-4790 or email lsembersky@echn.org for more information of if you have any questions.
URL:https://healthyliving.echn.org/events/family-birthing-center-in-person-tour-920-am/
LOCATION:Manchester Memorial Hospital\, 71 Haynes Street\, Manchester\, CT\, 06040\, United States
CATEGORIES:Childbirth & Postpartum,Family Birthing Center Tour
ORGANIZER;CN="Lauren Sembersky":MAILTO:lsembersky@echn.org
END:VEVENT
BEGIN:VEVENT
DTSTART;TZID=America/New_York:20250809T090000
DTEND;TZID=America/New_York:20250809T093000
DTSTAMP:20260420T083719
CREATED:20250624T154216Z
LAST-MODIFIED:20250803T004223Z
UID:10003809-1754730000-1754731800@healthyliving.echn.org
SUMMARY:Family Birthing Center In-Person Tour (9:00 am) - Full
DESCRIPTION:In-person Family Birthing Center Tours are available by registration only. Tours are limited to expectant parents (Pregnant parent plus one additional partner only). Absolutely no children or walk ins allowed. Each 30 minute tour is limited to just 6 couples (1 ticket = 1 couple). A confirmation with additional information will be sent via email once we receive your registration. \nPlan to arrive 15 – 20 minutes prior to your tour time to check in with security at the Main Entrance. \nPrior to attending the in-person tour\, both partners must view our Virtual Tour PowerPoint that will be sent via email after you register: \nAnd our unofficial video tour: \n \nPlease call Perinatal Education 860-647-4790 or email lsembersky@echn.org for more information or if you have any questions.
URL:https://healthyliving.echn.org/events/family-birthing-center-in-person-tour-900-am/
LOCATION:Manchester Memorial Hospital\, 71 Haynes Street\, Manchester\, CT\, 06040\, United States
CATEGORIES:Childbirth & Postpartum,Family Birthing Center Tour
ORGANIZER;CN="Lauren Sembersky":MAILTO:lsembersky@echn.org
END:VEVENT
BEGIN:VEVENT
DTSTART;TZID=America/New_York:20250714T185000
DTEND;TZID=America/New_York:20250714T192000
DTSTAMP:20260420T083719
CREATED:20250705T153304Z
LAST-MODIFIED:20250705T153304Z
UID:10003813-1752519000-1752520800@healthyliving.echn.org
SUMMARY:Family Birthing Center In-Person Tour (Waitlist)
DESCRIPTION:Use this registration if the timed tour events are full. You will be sent information about a time slot IF one opens.  \nIn-person Family Birthing Center Tours are available by registration only. Tours are limited to expectant parents (Pregnant parent plus one additional partner only). Absolutely no children or walk ins allowed. Each 30 minute tour is limited to just 6 couples (1 ticket = 1 couple). A confirmation with additional information will be sent via email once we receive your registration. \nPlan to arrive 10 – 15minutes prior to your tour time to check in with security at the Ambulatory Services Entrance. \nPrior to attending the in-person tour\, both partners must view our Virtual Tour PowerPoint that will be sent via email after you register: \nAnd our unofficial video tour: \n \nPlease call Perinatal Education 860-647-4790 or email lsembersky@echn.org if you have any questions.
URL:https://healthyliving.echn.org/events/family-birthing-center-in-person-tour-waitlist/
LOCATION:Manchester Memorial Hospital\, 71 Haynes Street\, Manchester\, CT\, 06040\, United States
CATEGORIES:Childbirth & Postpartum,Family Birthing Center Tour
ORGANIZER;CN="Lauren Sembersky":MAILTO:lsembersky@echn.org
END:VEVENT
BEGIN:VEVENT
DTSTART;TZID=America/New_York:20250714T185000
DTEND;TZID=America/New_York:20250714T192000
DTSTAMP:20260420T083719
CREATED:20250627T195754Z
LAST-MODIFIED:20250711T004835Z
UID:10003811-1752519000-1752520800@healthyliving.echn.org
SUMMARY:Family Birthing Center In-Person Tour (6:50 pm) - Full
DESCRIPTION:This event is now full. Please find the event waitlist and add one ticket. You will be contacted with a time if one opens. \nIn-person Family Birthing Center Tours are available by registration only. Tours are limited to expectant parents (Pregnant parent plus one additional partner only). Absolutely no children or walk ins allowed. Each 30 minute tour is limited to just 6 couples (1 ticket = 1 couple). A confirmation with additional information will be sent via email once we receive your registration. \nPlan to arrive 10 – 15minutes prior to your tour time to check in with security at the Ambulatory Services Entrance. \nPrior to attending the in-person tour\, both partners must view our Virtual Tour PowerPoint that will be sent via email after you register: \nAnd our unofficial video tour: \n \nPlease call Perinatal Education 860-647-4790 or email lsembersky@echn.org if you have any questions.
URL:https://healthyliving.echn.org/events/family-birthing-center-in-person-tour-650-pm/
LOCATION:Manchester Memorial Hospital\, 71 Haynes Street\, Manchester\, CT\, 06040\, United States
CATEGORIES:Childbirth & Postpartum,Family Birthing Center Tour
ORGANIZER;CN="Lauren Sembersky":MAILTO:lsembersky@echn.org
END:VEVENT
BEGIN:VEVENT
DTSTART;TZID=America/New_York:20250714T183000
DTEND;TZID=America/New_York:20250714T190000
DTSTAMP:20260420T083719
CREATED:20250627T195931Z
LAST-MODIFIED:20250701T223218Z
UID:10003812-1752517800-1752519600@healthyliving.echn.org
SUMMARY:Family Birthing Center In-Person Tour (6:30 pm) Full
DESCRIPTION:In-person Family Birthing Center Tours are available by registration only. Tours are limited to expectant parents (Pregnant parent plus one additional partner only). Absolutely no children or walk ins allowed. Each 30 minute tour is limited to just 6 couples (1 ticket = 1 couple). A confirmation with additional information will be sent via email once we receive your registration. \nPlan to arrive 10 – 15minutes prior to your tour time to check in with security at the Ambulatory Services Entrance. \nPrior to attending the in-person tour\, both partners must view our Virtual Tour PowerPoint that will be sent via email after you register: \nAnd our unofficial video tour: \n \nPlease call Perinatal Education 860-647-4790 or email lsembersky@echn.org if you have any questions.
URL:https://healthyliving.echn.org/events/family-birthing-center-in-person-tour-630-pm/
LOCATION:Manchester Memorial Hospital\, 71 Haynes Street\, Manchester\, CT\, 06040\, United States
CATEGORIES:Childbirth & Postpartum,Family Birthing Center Tour
ORGANIZER;CN="Lauren Sembersky":MAILTO:lsembersky@echn.org
END:VEVENT
BEGIN:VEVENT
DTSTART;TZID=America/New_York:20250714T181000
DTEND;TZID=America/New_York:20250714T184000
DTSTAMP:20260420T083719
CREATED:20250716T123622Z
LAST-MODIFIED:20250716T123622Z
UID:10003820-1752516600-1752518400@healthyliving.echn.org
SUMMARY:Family Birthing Center In-Person Tour (6:10 pm)
DESCRIPTION:In-person Family Birthing Center Tours are available by registration only. Tours are limited to expectant parents (Pregnant parent plus one additional partner only). Absolutely no children or walk ins allowed. Each 30 minute tour is limited to just 6 couples (1 ticket = 1 couple). A confirmation with additional information will be sent via email once we receive your registration. \nPlan to arrive 10 – 15minutes prior to your tour time to check in with security at the Ambulatory Services Entrance. \nPrior to attending the in-person tour\, both partners must view our Virtual Tour PowerPoint that will be sent via email after you register: \nAnd our unofficial video tour: \n \nPlease call Perinatal Education 860-647-4790 or email lsembersky@echn.org for more information or if you have any questions.
URL:https://healthyliving.echn.org/events/family-birthing-center-in-person-tour-610-pm/
LOCATION:Manchester Memorial Hospital\, 71 Haynes Street\, Manchester\, CT\, 06040\, United States
CATEGORIES:Childbirth & Postpartum,Family Birthing Center Tour
ORGANIZER;CN="Lauren Sembersky":MAILTO:lsembersky@echn.org
END:VEVENT
BEGIN:VEVENT
DTSTART;TZID=America/New_York:20250714T181000
DTEND;TZID=America/New_York:20250714T184000
DTSTAMP:20260420T083719
CREATED:20250508T155832Z
LAST-MODIFIED:20250712T153557Z
UID:10003778-1752516600-1752518400@healthyliving.echn.org
SUMMARY:Family Birthing Center In-Person Tour (6:10 pm) - Full
DESCRIPTION:In-person Family Birthing Center Tours are available by registration only. Tours are limited to expectant parents (Pregnant parent plus one additional partner only). Absolutely no children or walk ins allowed. Each 30 minute tour is limited to just 6 couples (1 ticket = 1 couple). A confirmation with additional information will be sent via email once we receive your registration. \nPlan to arrive 10 – 15minutes prior to your tour time to check in with security at the Ambulatory Services Entrance. \nPrior to attending the in-person tour\, both partners must view our Virtual Tour PowerPoint that will be sent via email after you register: \nAnd our unofficial video tour: \n \nPlease call Perinatal Education 860-647-4790 or email bcrayton@echn.org if you have any questions.
URL:https://healthyliving.echn.org/events/family-birthing-center-in-person-tour-610-pm-4/
LOCATION:Manchester Memorial Hospital\, 71 Haynes Street\, Manchester\, CT\, 06040\, United States
CATEGORIES:Childbirth & Postpartum,Family Birthing Center Tour
ORGANIZER;CN="Lauren Sembersky":MAILTO:lsembersky@echn.org
END:VEVENT
BEGIN:VEVENT
DTSTART;TZID=America/New_York:20250714T175000
DTEND;TZID=America/New_York:20250714T182000
DTSTAMP:20260420T083719
CREATED:20250716T123458Z
LAST-MODIFIED:20250716T123458Z
UID:10003819-1752515400-1752517200@healthyliving.echn.org
SUMMARY:Family Birthing Center In-Person Tour (5:50 pm)
DESCRIPTION:In-person Family Birthing Center Tours are available by registration only. Tours are limited to expectant parents (Pregnant parent plus one additional partner only). Absolutely no children or walk ins allowed. Each 30 minute tour is limited to just 6 couples (1 ticket = 1 couple). A confirmation with additional information will be sent via email once we receive your registration. \nPlan to arrive 10 – 15minutes prior to your tour time to check in with security at the Ambulatory Services Entrance. \nPrior to attending the in-person tour\, both partners must view our Virtual Tour PowerPoint that will be sent via email after you register: \nAnd our unofficial video tour: \n \nPlease call Perinatal Education 860-647-4790 or email lsembersky@echn.org for more information or if you have any questions.
URL:https://healthyliving.echn.org/events/family-birthing-center-in-person-tour-550-pm/
LOCATION:Manchester Memorial Hospital\, 71 Haynes Street\, Manchester\, CT\, 06040\, United States
CATEGORIES:Childbirth & Postpartum,Family Birthing Center Tour
ORGANIZER;CN="Lauren Sembersky":MAILTO:lsembersky@echn.org
END:VEVENT
BEGIN:VEVENT
DTSTART;TZID=America/New_York:20250714T175000
DTEND;TZID=America/New_York:20250714T182000
DTSTAMP:20260420T083719
CREATED:20250508T160115Z
LAST-MODIFIED:20250712T153649Z
UID:10003779-1752515400-1752517200@healthyliving.echn.org
SUMMARY:Family Birthing Center In-Person Tour (5:50 pm) - Full
DESCRIPTION:In-person Family Birthing Center Tours are available by registration only. Tours are limited to expectant parents (Pregnant parent plus one additional partner only). Absolutely no children or walk ins allowed. Each 30 minute tour is limited to just 6 couples (1 ticket = 1 couple). A confirmation with additional information will be sent via email once we receive your registration. \nPlan to arrive 10 – 15minutes prior to your tour time to check in with security at the Ambulatory Services Entrance. \nPrior to attending the in-person tour\, both partners must view our Virtual Tour PowerPoint that will be sent via email after you register: \nAnd our unofficial video tour: \n \nPlease call Perinatal Education 860-647-4790 or email lsembersky@echn.org if you have any questions.
URL:https://healthyliving.echn.org/events/family-birthing-center-in-person-tour-610-pm-5/
LOCATION:Manchester Memorial Hospital\, 71 Haynes Street\, Manchester\, CT\, 06040\, United States
CATEGORIES:Childbirth & Postpartum,Family Birthing Center Tour
ORGANIZER;CN="Lauren Sembersky":MAILTO:lsembersky@echn.org
END:VEVENT
BEGIN:VEVENT
DTSTART;TZID=America/New_York:20250714T173000
DTEND;TZID=America/New_York:20250714T180000
DTSTAMP:20260420T083719
CREATED:20250508T160255Z
LAST-MODIFIED:20250627T194927Z
UID:10003780-1752514200-1752516000@healthyliving.echn.org
SUMMARY:Family Birthing Center In-Person Tour (5:30 pm) - Full
DESCRIPTION:In-person Family Birthing Center Tours are available by registration only. Tours are limited to expectant parents (Pregnant parent plus one additional partner only). Absolutely no children or walk ins allowed. Each 30 minute tour is limited to just 6 couples (1 ticket = 1 couple). A confirmation with additional information will be sent via email once we receive your registration. \nPlan to arrive 10 – 15minutes prior to your tour time to check in with security at the Ambulatory Services Entrance. \nPrior to attending the in-person tour\, both partners must view our Virtual Tour PowerPoint that will be sent via email after you register: \nAnd our unofficial video tour: \n \nPlease call Perinatal Education 860-647-4790 or email lsembersky@echn.org for more information of if you have any questions.
URL:https://healthyliving.echn.org/events/family-birthing-center-in-person-tour-530-pm-4/
LOCATION:Manchester Memorial Hospital\, 71 Haynes Street\, Manchester\, CT\, 06040\, United States
CATEGORIES:Childbirth & Postpartum,Family Birthing Center Tour
ORGANIZER;CN="Lauren Sembersky":MAILTO:lsembersky@echn.org
END:VEVENT
BEGIN:VEVENT
DTSTART;TZID=America/New_York:20250714T171000
DTEND;TZID=America/New_York:20250714T174000
DTSTAMP:20260420T083719
CREATED:20250508T160406Z
LAST-MODIFIED:20250712T162515Z
UID:10003777-1752513000-1752514800@healthyliving.echn.org
SUMMARY:Family Birthing Center In-Person Tour (5:10 pm)
DESCRIPTION:In-person Family Birthing Center Tours are available by registration only. Tours are limited to expectant parents (Pregnant parent plus one additional partner only). Absolutely no children or walk ins allowed. Each 30 minute tour is limited to just 6 couples (1 ticket = 1 couple). A confirmation with additional information will be sent via email once we receive your registration. \nPlan to arrive 10 – 15minutes prior to your tour time to check in with security at the Ambulatory Services Entrance. \nPrior to attending the in-person tour\, both partners must view our Virtual Tour PowerPoint that will be sent via email after you register: \nAnd our unofficial video tour: \n \nPlease call Perinatal Education 860-647-4790 or email lsembersky@echn.org for more information or if you have any questions.
URL:https://healthyliving.echn.org/events/family-birthing-center-in-person-tour-510-pm/
LOCATION:Manchester Memorial Hospital\, 71 Haynes Street\, Manchester\, CT\, 06040\, United States
CATEGORIES:Childbirth & Postpartum,Family Birthing Center Tour
ORGANIZER;CN="Lauren Sembersky":MAILTO:lsembersky@echn.org
END:VEVENT
END:VCALENDAR