BEGIN:VCALENDAR
VERSION:2.0
PRODID:-//Healthy Living | Hartford Healthcare - ECPv6.15.12.2//NONSGML v1.0//EN
CALSCALE:GREGORIAN
METHOD:PUBLISH
X-ORIGINAL-URL:https://healthyliving.echn.org
X-WR-CALDESC:Events for Healthy Living | Hartford Healthcare
REFRESH-INTERVAL;VALUE=DURATION:PT1H
X-Robots-Tag:noindex
X-PUBLISHED-TTL:PT1H
BEGIN:VTIMEZONE
TZID:America/New_York
BEGIN:DAYLIGHT
TZOFFSETFROM:-0500
TZOFFSETTO:-0400
TZNAME:EDT
DTSTART:20240310T070000
END:DAYLIGHT
BEGIN:STANDARD
TZOFFSETFROM:-0400
TZOFFSETTO:-0500
TZNAME:EST
DTSTART:20241103T060000
END:STANDARD
BEGIN:DAYLIGHT
TZOFFSETFROM:-0500
TZOFFSETTO:-0400
TZNAME:EDT
DTSTART:20250309T070000
END:DAYLIGHT
BEGIN:STANDARD
TZOFFSETFROM:-0400
TZOFFSETTO:-0500
TZNAME:EST
DTSTART:20251102T060000
END:STANDARD
BEGIN:DAYLIGHT
TZOFFSETFROM:-0500
TZOFFSETTO:-0400
TZNAME:EDT
DTSTART:20260308T070000
END:DAYLIGHT
BEGIN:STANDARD
TZOFFSETFROM:-0400
TZOFFSETTO:-0500
TZNAME:EST
DTSTART:20261101T060000
END:STANDARD
END:VTIMEZONE
BEGIN:VEVENT
DTSTART;TZID=America/New_York:20250617T120000
DTEND;TZID=America/New_York:20250617T130000
DTSTAMP:20260421T060201
CREATED:20250417T155918Z
LAST-MODIFIED:20250417T155918Z
UID:10003767-1750161600-1750165200@healthyliving.echn.org
SUMMARY:Why Everyone Needs a Living Will (Sweet Talk Support Group)
DESCRIPTION:“Sweet Talk” is a support group for people with diabetes and prediabetes. The group meets regularly on the third Tuesday of the month from 12-1 PM at Manchester Memorial Hospital located at 71 Haynes Street\, Manchester CT. Please join us and network with other people with diabetes. Feel free to bring a friend or caretaker. If you have any questions\, please call 860-647-6824.  \nLet’s talk about what matters most. Barbara Winslow\, MSW\, ECHN Medical Social Worker\, will guide us through the essentials of Advance Directives\, including living wills and health care representatives. Empower yourself and your loved ones with this important knowledge.
URL:https://healthyliving.echn.org/events/why-everyone-needs-a-living-will-sweet-talk-support-group/
LOCATION:Miller Building\, Manchester Memorial Hospital\, 75 Haynes Road\, Manchester\, CT
CATEGORIES:Diabetes
ORGANIZER;CN="Tess Nuzzolo":MAILTO:tnuzzolo@echn.org
END:VEVENT
END:VCALENDAR