BEGIN:VCALENDAR
VERSION:2.0
PRODID:-//Healthy Living | Hartford Healthcare - ECPv6.15.12.2//NONSGML v1.0//EN
CALSCALE:GREGORIAN
METHOD:PUBLISH
X-WR-CALNAME:Healthy Living | Hartford Healthcare
X-ORIGINAL-URL:https://healthyliving.echn.org
X-WR-CALDESC:Events for Healthy Living | Hartford Healthcare
REFRESH-INTERVAL;VALUE=DURATION:PT1H
X-Robots-Tag:noindex
X-PUBLISHED-TTL:PT1H
BEGIN:VTIMEZONE
TZID:America/New_York
BEGIN:DAYLIGHT
TZOFFSETFROM:-0500
TZOFFSETTO:-0400
TZNAME:EDT
DTSTART:20240310T070000
END:DAYLIGHT
BEGIN:STANDARD
TZOFFSETFROM:-0400
TZOFFSETTO:-0500
TZNAME:EST
DTSTART:20241103T060000
END:STANDARD
BEGIN:DAYLIGHT
TZOFFSETFROM:-0500
TZOFFSETTO:-0400
TZNAME:EDT
DTSTART:20250309T070000
END:DAYLIGHT
BEGIN:STANDARD
TZOFFSETFROM:-0400
TZOFFSETTO:-0500
TZNAME:EST
DTSTART:20251102T060000
END:STANDARD
BEGIN:DAYLIGHT
TZOFFSETFROM:-0500
TZOFFSETTO:-0400
TZNAME:EDT
DTSTART:20260308T070000
END:DAYLIGHT
BEGIN:STANDARD
TZOFFSETFROM:-0400
TZOFFSETTO:-0500
TZNAME:EST
DTSTART:20261101T060000
END:STANDARD
END:VTIMEZONE
BEGIN:VEVENT
DTSTART;TZID=America/New_York:20251025T101500
DTEND;TZID=America/New_York:20251115T111500
DTSTAMP:20260423T072427
CREATED:20250617T155633Z
LAST-MODIFIED:20251011T012536Z
UID:10003796-1761387300-1763205300@healthyliving.echn.org
SUMMARY:Fit After Delivery Postpartum Fitness Series
DESCRIPTION:This class will run 4 Saturdays: October 25\, November 1\, 8\, 15 from 10:15-11:15am.  \nA postpartum exercise class designed for moms and babies.  Classes include cardio and strength exercises with an emphasis on regaining core strength.  Individual attention is offered to help participants achieve their goals based on their own birth recovery experience.  Babies from 6 weeks to 6 months are welcome and included in class as appropriate.  Enjoy the added benefit of meeting other moms and receiving parenting support too!  Taught by an A.C.E. Certified Group Fitness Instructor and experienced Childbirth Educator and Birth Doula. \nNo exercise experience is necessary. Exercises can be modified based on individual needs. \nPlease call Perinatal Education 860-647-4790 or email lsembersky@echn.org for more information or if you have any questions. \nNote: Within 1 week of the start of the class\, you will receive an email with additional information including what to bring\, directions and parking information. \nFour week session is $65.00 – Drop-in option is $20 per class \nPlease call Perinatal Education 860-647-4790 or email lsembersky@echn.org for more information or if you have any questions.
URL:https://healthyliving.echn.org/events/fit-after-delivery-postpartum-fitness-series/
LOCATION:Manchester Memorial Hospital\, Conference Room E/F
CATEGORIES:Childbirth & Postpartum,Pregnancy, Childbirth & Postpartum
ORGANIZER;CN="Lauren Sembersky":MAILTO:lsembersky@echn.org
END:VEVENT
BEGIN:VEVENT
DTSTART;TZID=America/New_York:20251101T084500
DTEND;TZID=America/New_York:20251101T094500
DTSTAMP:20260423T072427
CREATED:20250723T154041Z
LAST-MODIFIED:20250821T175209Z
UID:10003833-1761986700-1761990300@healthyliving.echn.org
SUMMARY:Fit For Delivery Prenatal Exercise Class - Drop In (Medical Clearance Required)
DESCRIPTION:This class held Saturday November 1 from 8:45 am – 9:45 am. \nWe are excited to launch a new prenatal exercise class designed for expectant mothers. Taught by an A.C.E. Certified Group Fitness Instructor and experienced Childbirth Educator. Classes will include a warm up\, pregnancy specific exercises\, low impact cardio workout\, circuit and strength training\, stretching and relaxation techniques. \nBenefits of exercise during pregnancy include:\n• Faster postpartum recovery\n• Increased strength\, stamina and energy\n• Less pregnancy-related back pain and improved posture\n• Relief of common pregnancy discomforts\n• Relief of daily stress and tension \nNo exercise experience is necessary. Exercises can be modified based on individual needs. \nMedical clearance is required so ask your Doctor or Midwife to write a note saying it’s OK to exercise and either email it to lsembersky@echn.org or bring it with you to the first class. We are sorry but without a note\, you will not be allowed to participate.
URL:https://healthyliving.echn.org/events/fit-for-delivery-prenatal-exercise-class-drop-in-medical-clearance-required-4/
LOCATION:Manchester Memorial Hospital\, Conference Room E/F
CATEGORIES:Childbirth & Postpartum,Pregnancy, Childbirth & Postpartum
ORGANIZER;CN="Lauren Sembersky":MAILTO:lsembersky@echn.org
END:VEVENT
BEGIN:VEVENT
DTSTART;TZID=America/New_York:20251101T101500
DTEND;TZID=America/New_York:20251101T111500
DTSTAMP:20260423T072427
CREATED:20250617T162320Z
LAST-MODIFIED:20250821T180801Z
UID:10003804-1761992100-1761995700@healthyliving.echn.org
SUMMARY:Fit After Delivery Postpartum Fitness (Drop In)
DESCRIPTION:A postpartum exercise class designed for moms and babies.  Classes include cardio and strength exercises with an emphasis on regaining core strength.  Individual attention is offered to help participants achieve their goals based on their own birth recovery experience.  Babies from 6 weeks to 6 months are welcome and included in class as appropriate.  Enjoy the added benefit of meeting other moms and receiving parenting support too!  Taught by an A.C.E. Certified Group Fitness Instructor and experienced Childbirth Educator and Birth Doula. \nNo exercise experience is necessary. Exercises can be modified based on individual needs. \nPlease call Perinatal Education 860-647-4790 or email lsembersky@echn.org for more information or if you have any questions. \nNote: Within 1 week of the start of the class\, you will receive an email with additional information including what to bring\, directions and parking information. \nFour week session is $65.00 – Drop-in option is $20 per class
URL:https://healthyliving.echn.org/events/fit-after-delivery-postpartum-fitness-drop-in-3/
LOCATION:Manchester Memorial Hospital\, Conference Room E/F
CATEGORIES:Childbirth & Postpartum,Pregnancy, Childbirth & Postpartum
ORGANIZER;CN="Lauren Sembersky":MAILTO:lsembersky@echn.org
END:VEVENT
BEGIN:VEVENT
DTSTART;TZID=America/New_York:20251104T100000
DTEND;TZID=America/New_York:20251104T230000
DTSTAMP:20260423T072427
CREATED:20250821T192356Z
LAST-MODIFIED:20251223T125427Z
UID:10003688-1762250400-1762297200@healthyliving.echn.org
SUMMARY:New Mothers' Group
DESCRIPTION:If you have a baby six months and younger and want to get out to spend time with other new Moms\, please join us for an informal support group on Tuesday mornings. \nRegistration is not required – this is a drop-in group. \nTime: 10 – 11 am \nThe group is usually facilitated by an FBC staff member who is also a Certified Lactation Consultant (IBCLC) but all feeding choices are supported. \nIf you have any questions\, please email Perinatal Education Coordinator\, Lauren Sembersky: lsembersky@echn.org or call 860-647-4790. \nLocation: Manchester Hospital Family Birthing Center Education Room\n71 Haynes Street\nManchester\, CT 06040 \n*Directions to FBC Lobby: From Main Street in Manchester take Haynes Street toward the hospital.  Before you reach the main entrance of the hospital\, take the first right onto Guard Street toward the Ambulatory Service Center (ASC).  The ASC is the 2nd building on the left.  Parking is available in the parking lot at the very end of Guard Street.  Enter the hospital through the ASC entrance and check in with security (ID required).  Take the stairs or elevator on your left to the first floor (press #1 – it is the 3rd level of the ASC).  The lobby is right off the elevator is outside the entrance into the Family Birthing Center. 
URL:https://healthyliving.echn.org/events/new-mothers-group-2/2025-11-04/
LOCATION:Manchester Memorial Hospital\, 71 Haynes Street\, Manchester\, CT\, 06040\, United States
CATEGORIES:Childbirth & Postpartum,Pregnancy, Childbirth & Postpartum
ORGANIZER;CN="Lauren Sembersky":MAILTO:bcrayton@echn.org
END:VEVENT
BEGIN:VEVENT
DTSTART;TZID=America/New_York:20251108T084500
DTEND;TZID=America/New_York:20251108T094500
DTSTAMP:20260423T072427
CREATED:20250723T154202Z
LAST-MODIFIED:20250821T175143Z
UID:10003834-1762591500-1762595100@healthyliving.echn.org
SUMMARY:Fit For Delivery Prenatal Exercise Class - Drop In (Medical Clearance Required)
DESCRIPTION:This class held Saturday November 8 from 8:45 am – 9:45 am. \nWe are excited to launch a new prenatal exercise class designed for expectant mothers. Taught by an A.C.E. Certified Group Fitness Instructor and experienced Childbirth Educator. Classes will include a warm up\, pregnancy specific exercises\, low impact cardio workout\, circuit and strength training\, stretching and relaxation techniques. \nBenefits of exercise during pregnancy include:\n• Faster postpartum recovery\n• Increased strength\, stamina and energy\n• Less pregnancy-related back pain and improved posture\n• Relief of common pregnancy discomforts\n• Relief of daily stress and tension \nNo exercise experience is necessary. Exercises can be modified based on individual needs. \nMedical clearance is required so ask your Doctor or Midwife to write a note saying it’s OK to exercise and either email it to lsembersky@echn.org or bring it with you to the first class. We are sorry but without a note\, you will not be allowed to participate.
URL:https://healthyliving.echn.org/events/fit-for-delivery-prenatal-exercise-class-drop-in-medical-clearance-required-5/
LOCATION:Manchester Memorial Hospital\, Conference Room E/F
CATEGORIES:Childbirth & Postpartum,Pregnancy, Childbirth & Postpartum
ORGANIZER;CN="Lauren Sembersky":MAILTO:lsembersky@echn.org
END:VEVENT
BEGIN:VEVENT
DTSTART;TZID=America/New_York:20251108T101500
DTEND;TZID=America/New_York:20251108T111500
DTSTAMP:20260423T072427
CREATED:20250617T162421Z
LAST-MODIFIED:20250821T180718Z
UID:10003803-1762596900-1762600500@healthyliving.echn.org
SUMMARY:Fit After Delivery Postpartum Fitness (Drop In)
DESCRIPTION:A postpartum exercise class designed for moms and babies.  Classes include cardio and strength exercises with an emphasis on regaining core strength.  Individual attention is offered to help participants achieve their goals based on their own birth recovery experience.  Babies from 6 weeks to 6 months are welcome and included in class as appropriate.  Enjoy the added benefit of meeting other moms and receiving parenting support too!  Taught by an A.C.E. Certified Group Fitness Instructor and experienced Childbirth Educator and Birth Doula. \nNo exercise experience is necessary. Exercises can be modified based on individual needs. \nPlease call Perinatal Education 860-647-4790 or email lsembersky@echn.org for more information or if you have any questions. \nNote: Within 1 week of the start of the class\, you will receive an email with additional information including what to bring\, directions and parking information. \nFour week session is $65.00 – Drop-in option is $20 per class
URL:https://healthyliving.echn.org/events/fit-after-delivery-postpartum-fitness-drop-in-4/
LOCATION:Manchester Memorial Hospital\, Conference Room E/F
CATEGORIES:Childbirth & Postpartum,Pregnancy, Childbirth & Postpartum
ORGANIZER;CN="Lauren Sembersky":MAILTO:lsembersky@echn.org
END:VEVENT
BEGIN:VEVENT
DTSTART;TZID=America/New_York:20251111T100000
DTEND;TZID=America/New_York:20251111T230000
DTSTAMP:20260423T072427
CREATED:20250821T192356Z
LAST-MODIFIED:20251223T125427Z
UID:10003689-1762855200-1762902000@healthyliving.echn.org
SUMMARY:New Mothers' Group
DESCRIPTION:If you have a baby six months and younger and want to get out to spend time with other new Moms\, please join us for an informal support group on Tuesday mornings. \nRegistration is not required – this is a drop-in group. \nTime: 10 – 11 am \nThe group is usually facilitated by an FBC staff member who is also a Certified Lactation Consultant (IBCLC) but all feeding choices are supported. \nIf you have any questions\, please email Perinatal Education Coordinator\, Lauren Sembersky: lsembersky@echn.org or call 860-647-4790. \nLocation: Manchester Hospital Family Birthing Center Education Room\n71 Haynes Street\nManchester\, CT 06040 \n*Directions to FBC Lobby: From Main Street in Manchester take Haynes Street toward the hospital.  Before you reach the main entrance of the hospital\, take the first right onto Guard Street toward the Ambulatory Service Center (ASC).  The ASC is the 2nd building on the left.  Parking is available in the parking lot at the very end of Guard Street.  Enter the hospital through the ASC entrance and check in with security (ID required).  Take the stairs or elevator on your left to the first floor (press #1 – it is the 3rd level of the ASC).  The lobby is right off the elevator is outside the entrance into the Family Birthing Center. 
URL:https://healthyliving.echn.org/events/new-mothers-group-2/2025-11-11/
LOCATION:Manchester Memorial Hospital\, 71 Haynes Street\, Manchester\, CT\, 06040\, United States
CATEGORIES:Childbirth & Postpartum,Pregnancy, Childbirth & Postpartum
ORGANIZER;CN="Lauren Sembersky":MAILTO:bcrayton@echn.org
END:VEVENT
BEGIN:VEVENT
DTSTART;TZID=America/New_York:20251115T090000
DTEND;TZID=America/New_York:20251115T110000
DTSTAMP:20260423T072427
CREATED:20250914T000041Z
LAST-MODIFIED:20251024T134010Z
UID:10003900-1763197200-1763204400@healthyliving.echn.org
SUMMARY:Family Birthing Center Tour  - 2 people
DESCRIPTION:Family Birthing Center Tours are available by registration only. Tours are limited to expectant parents (Pregnant parent plus one additional partner only). Absolutely no children or walk ins allowed. Each 30 minute tour is limited to just 7 couples (1 ticket = 2 people). \nA confirmation with additional information will be sent via email. \nPlan to arrive 10 – 15 minutes prior to your tour time to check in with security. \nSelect only one ticket per couple. \nPlease call Perinatal Education 860-647-4790 or email lsembersky@echn.org for more information or if you have any questions. \nThese tickets will be available starting September 14\, the next Family Birthing Center Tour is Thursday December 11\, 2025. \nOur unofficial video tour:
URL:https://healthyliving.echn.org/events/family-birthing-center-tour-2-people/
LOCATION:Manchester Memorial Hospital\, 71 Haynes Street\, Manchester\, CT\, 06040\, United States
CATEGORIES:Childbirth & Postpartum,Family Birthing Center Tour
ORGANIZER;CN="Lauren Sembersky":MAILTO:lsembersky@echn.org
END:VEVENT
BEGIN:VEVENT
DTSTART;TZID=America/New_York:20251118T100000
DTEND;TZID=America/New_York:20251118T230000
DTSTAMP:20260423T072427
CREATED:20250821T192356Z
LAST-MODIFIED:20251223T125427Z
UID:10003690-1763460000-1763506800@healthyliving.echn.org
SUMMARY:New Mothers' Group
DESCRIPTION:If you have a baby six months and younger and want to get out to spend time with other new Moms\, please join us for an informal support group on Tuesday mornings. \nRegistration is not required – this is a drop-in group. \nTime: 10 – 11 am \nThe group is usually facilitated by an FBC staff member who is also a Certified Lactation Consultant (IBCLC) but all feeding choices are supported. \nIf you have any questions\, please email Perinatal Education Coordinator\, Lauren Sembersky: lsembersky@echn.org or call 860-647-4790. \nLocation: Manchester Hospital Family Birthing Center Education Room\n71 Haynes Street\nManchester\, CT 06040 \n*Directions to FBC Lobby: From Main Street in Manchester take Haynes Street toward the hospital.  Before you reach the main entrance of the hospital\, take the first right onto Guard Street toward the Ambulatory Service Center (ASC).  The ASC is the 2nd building on the left.  Parking is available in the parking lot at the very end of Guard Street.  Enter the hospital through the ASC entrance and check in with security (ID required).  Take the stairs or elevator on your left to the first floor (press #1 – it is the 3rd level of the ASC).  The lobby is right off the elevator is outside the entrance into the Family Birthing Center. 
URL:https://healthyliving.echn.org/events/new-mothers-group-2/2025-11-18/
LOCATION:Manchester Memorial Hospital\, 71 Haynes Street\, Manchester\, CT\, 06040\, United States
CATEGORIES:Childbirth & Postpartum,Pregnancy, Childbirth & Postpartum
ORGANIZER;CN="Lauren Sembersky":MAILTO:bcrayton@echn.org
END:VEVENT
BEGIN:VEVENT
DTSTART;TZID=America/New_York:20251122T084500
DTEND;TZID=America/New_York:20251122T094500
DTSTAMP:20260423T072427
CREATED:20250226T154810Z
LAST-MODIFIED:20251121T175655Z
UID:10003269-1763801100-1763804700@healthyliving.echn.org
SUMMARY:Fit For Delivery Prenatal Fitness Series (Medical Clearance Required)
DESCRIPTION:This class will run 4 Saturdays: November 22\, December 6\, December 13 & December 20 from 8:45 – 9:45 am. \nWe are excited to launch a new prenatal exercise class designed for expectant mothers. Taught by an A.C.E. Certified Group Fitness Instructor and experienced Childbirth Educator and Birth Doula. Classes will include a warm up\, pregnancy specific exercises\, low impact cardio workout\, circuit and strength training\, stretching and relaxation techniques. \nBenefits of exercise during pregnancy include:\n• Faster postpartum recovery\n• Increased strength\, stamina and energy\n• Less pregnancy-related back pain and improved posture\n• Relief of common pregnancy discomforts\n• Relief of daily stress and tension \nNo exercise experience is necessary. Exercises can be modified based on individual needs. \nMedical clearance is required so ask your Doctor or Midwife to write a note saying it’s OK to exercise and either email it to lsembersky@echn.org or bring it with you to the first class. We are sorry but without a note\, you will not be allowed to participate. \n$20.00 per class drop-in option also available. \nPlease call Perinatal Education 860-647-4790 or email lsembersky@echn.org for more information or if you have any questions.
URL:https://healthyliving.echn.org/events/fit-for-delivery-prenatal-fitness-series-medical-clearance-required-5/
LOCATION:Manchester Memorial Hospital\, Conference Room E/F
CATEGORIES:Childbirth & Postpartum,Pregnancy, Childbirth & Postpartum
ORGANIZER;CN="Lauren Sembersky":MAILTO:lsembersky@echn.org
END:VEVENT
BEGIN:VEVENT
DTSTART;TZID=America/New_York:20251122T084500
DTEND;TZID=America/New_York:20251122T094500
DTSTAMP:20260423T072427
CREATED:20250723T154410Z
LAST-MODIFIED:20250821T175117Z
UID:10003835-1763801100-1763804700@healthyliving.echn.org
SUMMARY:Fit For Delivery Prenatal Exercise Class - Drop In (Medical Clearance Required)
DESCRIPTION:This class held Saturday November 22 from 8:45 am – 9:45 am \nWe are excited to launch a new prenatal exercise class designed for expectant mothers. Taught by an A.C.E. Certified Group Fitness Instructor and experienced Childbirth Educator. Classes will include a warm up\, pregnancy specific exercises\, low impact cardio workout\, circuit and strength training\, stretching and relaxation techniques. \nBenefits of exercise during pregnancy include:\n• Faster postpartum recovery\n• Increased strength\, stamina and energy\n• Less pregnancy-related back pain and improved posture\n• Relief of common pregnancy discomforts\n• Relief of daily stress and tension \nNo exercise experience is necessary. Exercises can be modified based on individual needs. \nMedical clearance is required so ask your Doctor or Midwife to write a note saying it’s OK to exercise and either email it to lsembersky@echn.org or bring it with you to the first class. We are sorry but without a note\, you will not be allowed to participate.
URL:https://healthyliving.echn.org/events/fit-for-delivery-prenatal-exercise-class-drop-in-medical-clearance-required-13/
LOCATION:Manchester Memorial Hospital\, Conference Room E/F
CATEGORIES:Childbirth & Postpartum,Pregnancy, Childbirth & Postpartum
ORGANIZER;CN="Lauren Sembersky":MAILTO:lsembersky@echn.org
END:VEVENT
BEGIN:VEVENT
DTSTART;TZID=America/New_York:20251122T101500
DTEND;TZID=America/New_York:20251122T111500
DTSTAMP:20260423T072427
CREATED:20250807T215831Z
LAST-MODIFIED:20251121T175657Z
UID:10003847-1763806500-1763810100@healthyliving.echn.org
SUMMARY:Fit After Delivery Postpartum Fitness Series
DESCRIPTION:This class series will run 4 Saturdays: November 22\, December 6\, 13 & 20th from 10:15-11:15 \nA postpartum exercise class designed for moms and babies.  Classes include cardio and strength exercises with an emphasis on regaining core strength.  Individual attention is offered to help participants achieve their goals based on their own birth recovery experience.  Babies from 6 weeks to 6 months are welcome and included in class as appropriate.  Enjoy the added benefit of meeting other moms and receiving parenting support too!  Taught by an A.C.E. Certified Group Fitness Instructor and experienced Childbirth Educator and Birth Doula. \nNo exercise experience is necessary. Exercises can be modified based on individual needs. \nPlease call Perinatal Education 860-647-4790 or email lsembersky@echn.org for more information or if you have any questions. \nNote: Within 1 week of the start of the class\, you will receive an email with additional information including what to bring\, directions and parking information. \nFour week session is $65.00 – Drop-in option is $20 per class
URL:https://healthyliving.echn.org/events/fit-after-delivery-postpartum-fitness-series-3/
LOCATION:Manchester Memorial Hospital\, Conference Room E/F
CATEGORIES:Childbirth & Postpartum,Pregnancy, Childbirth & Postpartum
ORGANIZER;CN="Lauren Sembersky":MAILTO:lsembersky@echn.org
END:VEVENT
BEGIN:VEVENT
DTSTART;TZID=America/New_York:20251122T101500
DTEND;TZID=America/New_York:20251122T111500
DTSTAMP:20260423T072427
CREATED:20250807T220019Z
LAST-MODIFIED:20250821T180627Z
UID:10003848-1763806500-1763810100@healthyliving.echn.org
SUMMARY:Fit After Delivery Postpartum Fitness (Drop In)
DESCRIPTION:A postpartum exercise class designed for moms and babies.  Classes include cardio and strength exercises with an emphasis on regaining core strength.  Individual attention is offered to help participants achieve their goals based on their own birth recovery experience.  Babies from 6 weeks to 6 months are welcome and included in class as appropriate.  Enjoy the added benefit of meeting other moms and receiving parenting support too!  Taught by an A.C.E. Certified Group Fitness Instructor and experienced Childbirth Educator and Birth Doula. \nNo exercise experience is necessary. Exercises can be modified based on individual needs. \nPlease call Perinatal Education 860-647-4790 or email lsembersky@echn.org for more information or if you have any questions. \nNote: Within 1 week of the start of the class\, you will receive an email with additional information including what to bring\, directions and parking information. \nFour week session is $65.00 – Drop-in option is $20 per class
URL:https://healthyliving.echn.org/events/fit-after-delivery-postpartum-fitness-drop-in-6/
LOCATION:Manchester Memorial Hospital\, Conference Room E/F
CATEGORIES:Childbirth & Postpartum,Pregnancy, Childbirth & Postpartum
ORGANIZER;CN="Lauren Sembersky":MAILTO:lsembersky@echn.org
END:VEVENT
BEGIN:VEVENT
DTSTART;TZID=America/New_York:20251125T100000
DTEND;TZID=America/New_York:20251125T230000
DTSTAMP:20260423T072427
CREATED:20250821T192356Z
LAST-MODIFIED:20251223T125427Z
UID:10003691-1764064800-1764111600@healthyliving.echn.org
SUMMARY:New Mothers' Group
DESCRIPTION:If you have a baby six months and younger and want to get out to spend time with other new Moms\, please join us for an informal support group on Tuesday mornings. \nRegistration is not required – this is a drop-in group. \nTime: 10 – 11 am \nThe group is usually facilitated by an FBC staff member who is also a Certified Lactation Consultant (IBCLC) but all feeding choices are supported. \nIf you have any questions\, please email Perinatal Education Coordinator\, Lauren Sembersky: lsembersky@echn.org or call 860-647-4790. \nLocation: Manchester Hospital Family Birthing Center Education Room\n71 Haynes Street\nManchester\, CT 06040 \n*Directions to FBC Lobby: From Main Street in Manchester take Haynes Street toward the hospital.  Before you reach the main entrance of the hospital\, take the first right onto Guard Street toward the Ambulatory Service Center (ASC).  The ASC is the 2nd building on the left.  Parking is available in the parking lot at the very end of Guard Street.  Enter the hospital through the ASC entrance and check in with security (ID required).  Take the stairs or elevator on your left to the first floor (press #1 – it is the 3rd level of the ASC).  The lobby is right off the elevator is outside the entrance into the Family Birthing Center. 
URL:https://healthyliving.echn.org/events/new-mothers-group-2/2025-11-25/
LOCATION:Manchester Memorial Hospital\, 71 Haynes Street\, Manchester\, CT\, 06040\, United States
CATEGORIES:Childbirth & Postpartum,Pregnancy, Childbirth & Postpartum
ORGANIZER;CN="Lauren Sembersky":MAILTO:bcrayton@echn.org
END:VEVENT
END:VCALENDAR