BEGIN:VCALENDAR
VERSION:2.0
PRODID:-//Healthy Living | Hartford Healthcare - ECPv6.15.12.2//NONSGML v1.0//EN
CALSCALE:GREGORIAN
METHOD:PUBLISH
X-WR-CALNAME:Healthy Living | Hartford Healthcare
X-ORIGINAL-URL:https://healthyliving.echn.org
X-WR-CALDESC:Events for Healthy Living | Hartford Healthcare
REFRESH-INTERVAL;VALUE=DURATION:PT1H
X-Robots-Tag:noindex
X-PUBLISHED-TTL:PT1H
BEGIN:VTIMEZONE
TZID:America/New_York
BEGIN:DAYLIGHT
TZOFFSETFROM:-0500
TZOFFSETTO:-0400
TZNAME:EDT
DTSTART:20240310T070000
END:DAYLIGHT
BEGIN:STANDARD
TZOFFSETFROM:-0400
TZOFFSETTO:-0500
TZNAME:EST
DTSTART:20241103T060000
END:STANDARD
BEGIN:DAYLIGHT
TZOFFSETFROM:-0500
TZOFFSETTO:-0400
TZNAME:EDT
DTSTART:20250309T070000
END:DAYLIGHT
BEGIN:STANDARD
TZOFFSETFROM:-0400
TZOFFSETTO:-0500
TZNAME:EST
DTSTART:20251102T060000
END:STANDARD
BEGIN:DAYLIGHT
TZOFFSETFROM:-0500
TZOFFSETTO:-0400
TZNAME:EDT
DTSTART:20260308T070000
END:DAYLIGHT
BEGIN:STANDARD
TZOFFSETFROM:-0400
TZOFFSETTO:-0500
TZNAME:EST
DTSTART:20261101T060000
END:STANDARD
END:VTIMEZONE
BEGIN:VEVENT
DTSTART;TZID=America/New_York:20251106T120000
DTEND;TZID=America/New_York:20251106T140000
DTSTAMP:20260425T172628
CREATED:20251010T165952Z
LAST-MODIFIED:20251010T165952Z
UID:10003929-1762430400-1762437600@healthyliving.echn.org
SUMMARY:Untangling the Paperwork: A Guide to Medical Bills and Insurance
DESCRIPTION:Open to Cancer Survivors & Caregivers\nPresented by the Oncology Social Worker Ellen Leslie\, MSW. LMSW and Patient Financial Advocate Patti Kelly\n\nJoin us for an informative session covering essential topics to help patients and caregivers navigate the financial aspects of cancer care. Topics will include:\n\nUnderstanding medical billing (please bring your billing statements)\nInsurance coverage and patient responsibilities\nHow to read and interpret insurance documents (bring those as well)\nExploring financial assistance programs and coverage options\nAnd much more\n\nThis event is designed to empower you with the knowledge and resources needed to manage healthcare costs confidently.\n\nThis event is free and lunch will be provided.\n\nTo register\, call or email Leslie Juliani at 860.646.1222\, x1406 or ljuliani@echn.org or Karen Fiume at 860.646.1222\, x1408 or kfiume@echn.org
URL:https://healthyliving.echn.org/events/untangling-the-paperwork-a-guide-to-medical-bills-and-insurance/2025-11-06/1/
LOCATION:Virtual Event
CATEGORIES:Cancer Education & Support
ORGANIZER;CN="Bernadette McMahon":MAILTO:bmcmahon@echn.org
END:VEVENT
BEGIN:VEVENT
DTSTART;TZID=America/New_York:20251106T180000
DTEND;TZID=America/New_York:20251106T200000
DTSTAMP:20260425T172628
CREATED:20251010T165952Z
LAST-MODIFIED:20251010T165952Z
UID:10003930-1762452000-1762459200@healthyliving.echn.org
SUMMARY:Untangling the Paperwork: A Guide to Medical Bills and Insurance
DESCRIPTION:Open to Cancer Survivors & Caregivers\nPresented by the Oncology Social Worker Ellen Leslie\, MSW. LMSW and Patient Financial Advocate Patti Kelly\n\nJoin us for an informative session covering essential topics to help patients and caregivers navigate the financial aspects of cancer care. Topics will include:\n\nUnderstanding medical billing (please bring your billing statements)\nInsurance coverage and patient responsibilities\nHow to read and interpret insurance documents (bring those as well)\nExploring financial assistance programs and coverage options\nAnd much more\n\nThis event is designed to empower you with the knowledge and resources needed to manage healthcare costs confidently.\n\nThis event is free and lunch will be provided.\n\nTo register\, call or email Leslie Juliani at 860.646.1222\, x1406 or ljuliani@echn.org or Karen Fiume at 860.646.1222\, x1408 or kfiume@echn.org
URL:https://healthyliving.echn.org/events/untangling-the-paperwork-a-guide-to-medical-bills-and-insurance/2025-11-06/2/
LOCATION:Virtual Event
CATEGORIES:Cancer Education & Support
ORGANIZER;CN="Bernadette McMahon":MAILTO:bmcmahon@echn.org
END:VEVENT
END:VCALENDAR